BEGIN:VCALENDAR
VERSION:2.0
BEGIN:VEVENT
UID:58178625-8624-4515-5451-000000010153
SUMMARY:Schadstoffe S2 (14-16 Uhr)
DESCRIPTION;ENCODING=QUOTED-PRINTABLE:Schadstoffe S2 (14-16 Uhr) ist eine Regelabfuhr, eine Anmeldung ist nicht erforderlich.
DTSTART:20260507
DTEND:20260508
END:VEVENT
BEGIN:VEVENT
UID:58178625-8624-4515-5451-000000010154
SUMMARY:Schadstoffe S2 (14-16 Uhr)
DESCRIPTION;ENCODING=QUOTED-PRINTABLE:Schadstoffe S2 (14-16 Uhr) ist eine Regelabfuhr, eine Anmeldung ist nicht erforderlich.
DTSTART:20260903
DTEND:20260904
END:VEVENT
BEGIN:VEVENT
UID:58178625-8624-4515-5451-000000010545
SUMMARY:Bioabfälle
DESCRIPTION;ENCODING=QUOTED-PRINTABLE:Bioabfälle ist eine Regelabfuhr, eine Anmeldung ist nicht erforderlich.
DTSTART:20260428
DTEND:20260429
END:VEVENT
BEGIN:VEVENT
UID:58178625-8624-4515-5451-000000010546
SUMMARY:Bioabfälle
DESCRIPTION;ENCODING=QUOTED-PRINTABLE:Bioabfälle ist eine Regelabfuhr, eine Anmeldung ist nicht erforderlich.
DTSTART:20260512
DTEND:20260513
END:VEVENT
BEGIN:VEVENT
UID:58178625-8624-4515-5451-000000010547
SUMMARY:Bioabfälle
DESCRIPTION;ENCODING=QUOTED-PRINTABLE:Bioabfälle ist eine Regelabfuhr, eine Anmeldung ist nicht erforderlich.
DTSTART:20260519
DTEND:20260520
END:VEVENT
BEGIN:VEVENT
UID:58178625-8624-4515-5451-000000010548
SUMMARY:Bioabfälle
DESCRIPTION;ENCODING=QUOTED-PRINTABLE:Bioabfälle ist eine Regelabfuhr, eine Anmeldung ist nicht erforderlich.
DTSTART:20260527
DTEND:20260528
END:VEVENT
BEGIN:VEVENT
UID:58178625-8624-4515-5451-000000010549
SUMMARY:Bioabfälle
DESCRIPTION;ENCODING=QUOTED-PRINTABLE:Bioabfälle ist eine Regelabfuhr, eine Anmeldung ist nicht erforderlich.
DTSTART:20260602
DTEND:20260603
END:VEVENT
BEGIN:VEVENT
UID:58178625-8624-4515-5451-000000010550
SUMMARY:Bioabfälle
DESCRIPTION;ENCODING=QUOTED-PRINTABLE:Bioabfälle ist eine Regelabfuhr, eine Anmeldung ist nicht erforderlich.
DTSTART:20260609
DTEND:20260610
END:VEVENT
BEGIN:VEVENT
UID:58178625-8624-4515-5451-000000010551
SUMMARY:Bioabfälle
DESCRIPTION;ENCODING=QUOTED-PRINTABLE:Bioabfälle ist eine Regelabfuhr, eine Anmeldung ist nicht erforderlich.
DTSTART:20260616
DTEND:20260617
END:VEVENT
BEGIN:VEVENT
UID:58178625-8624-4515-5451-000000010552
SUMMARY:Bioabfälle
DESCRIPTION;ENCODING=QUOTED-PRINTABLE:Bioabfälle ist eine Regelabfuhr, eine Anmeldung ist nicht erforderlich.
DTSTART:20260623
DTEND:20260624
END:VEVENT
BEGIN:VEVENT
UID:58178625-8624-4515-5451-000000010553
SUMMARY:Bioabfälle
DESCRIPTION;ENCODING=QUOTED-PRINTABLE:Bioabfälle ist eine Regelabfuhr, eine Anmeldung ist nicht erforderlich.
DTSTART:20260630
DTEND:20260701
END:VEVENT
BEGIN:VEVENT
UID:58178625-8624-4515-5451-000000010554
SUMMARY:Bioabfälle
DESCRIPTION;ENCODING=QUOTED-PRINTABLE:Bioabfälle ist eine Regelabfuhr, eine Anmeldung ist nicht erforderlich.
DTSTART:20260707
DTEND:20260708
END:VEVENT
BEGIN:VEVENT
UID:58178625-8624-4515-5451-000000010555
SUMMARY:Bioabfälle
DESCRIPTION;ENCODING=QUOTED-PRINTABLE:Bioabfälle ist eine Regelabfuhr, eine Anmeldung ist nicht erforderlich.
DTSTART:20260714
DTEND:20260715
END:VEVENT
BEGIN:VEVENT
UID:58178625-8624-4515-5451-000000010556
SUMMARY:Bioabfälle
DESCRIPTION;ENCODING=QUOTED-PRINTABLE:Bioabfälle ist eine Regelabfuhr, eine Anmeldung ist nicht erforderlich.
DTSTART:20260721
DTEND:20260722
END:VEVENT
BEGIN:VEVENT
UID:58178625-8624-4515-5451-000000010557
SUMMARY:Bioabfälle
DESCRIPTION;ENCODING=QUOTED-PRINTABLE:Bioabfälle ist eine Regelabfuhr, eine Anmeldung ist nicht erforderlich.
DTSTART:20260728
DTEND:20260729
END:VEVENT
BEGIN:VEVENT
UID:58178625-8624-4515-5451-000000010558
SUMMARY:Bioabfälle
DESCRIPTION;ENCODING=QUOTED-PRINTABLE:Bioabfälle ist eine Regelabfuhr, eine Anmeldung ist nicht erforderlich.
DTSTART:20260804
DTEND:20260805
END:VEVENT
BEGIN:VEVENT
UID:58178625-8624-4515-5451-000000010559
SUMMARY:Bioabfälle
DESCRIPTION;ENCODING=QUOTED-PRINTABLE:Bioabfälle ist eine Regelabfuhr, eine Anmeldung ist nicht erforderlich.
DTSTART:20260811
DTEND:20260812
END:VEVENT
BEGIN:VEVENT
UID:58178625-8624-4515-5451-000000010560
SUMMARY:Bioabfälle
DESCRIPTION;ENCODING=QUOTED-PRINTABLE:Bioabfälle ist eine Regelabfuhr, eine Anmeldung ist nicht erforderlich.
DTSTART:20260818
DTEND:20260819
END:VEVENT
BEGIN:VEVENT
UID:58178625-8624-4515-5451-000000010561
SUMMARY:Bioabfälle
DESCRIPTION;ENCODING=QUOTED-PRINTABLE:Bioabfälle ist eine Regelabfuhr, eine Anmeldung ist nicht erforderlich.
DTSTART:20260825
DTEND:20260826
END:VEVENT
BEGIN:VEVENT
UID:58178625-8624-4515-5451-000000010562
SUMMARY:Bioabfälle
DESCRIPTION;ENCODING=QUOTED-PRINTABLE:Bioabfälle ist eine Regelabfuhr, eine Anmeldung ist nicht erforderlich.
DTSTART:20260901
DTEND:20260902
END:VEVENT
BEGIN:VEVENT
UID:58178625-8624-4515-5451-000000010563
SUMMARY:Bioabfälle
DESCRIPTION;ENCODING=QUOTED-PRINTABLE:Bioabfälle ist eine Regelabfuhr, eine Anmeldung ist nicht erforderlich.
DTSTART:20260908
DTEND:20260909
END:VEVENT
BEGIN:VEVENT
UID:58178625-8624-4515-5451-000000010564
SUMMARY:Bioabfälle
DESCRIPTION;ENCODING=QUOTED-PRINTABLE:Bioabfälle ist eine Regelabfuhr, eine Anmeldung ist nicht erforderlich.
DTSTART:20260915
DTEND:20260916
END:VEVENT
BEGIN:VEVENT
UID:58178625-8624-4515-5451-000000010565
SUMMARY:Bioabfälle
DESCRIPTION;ENCODING=QUOTED-PRINTABLE:Bioabfälle ist eine Regelabfuhr, eine Anmeldung ist nicht erforderlich.
DTSTART:20260922
DTEND:20260923
END:VEVENT
BEGIN:VEVENT
UID:58178625-8624-4515-5451-000000010566
SUMMARY:Bioabfälle
DESCRIPTION;ENCODING=QUOTED-PRINTABLE:Bioabfälle ist eine Regelabfuhr, eine Anmeldung ist nicht erforderlich.
DTSTART:20260929
DTEND:20260930
END:VEVENT
BEGIN:VEVENT
UID:58178625-8624-4515-5451-000000010567
SUMMARY:Bioabfälle
DESCRIPTION;ENCODING=QUOTED-PRINTABLE:Bioabfälle ist eine Regelabfuhr, eine Anmeldung ist nicht erforderlich.
DTSTART:20261006
DTEND:20261007
END:VEVENT
BEGIN:VEVENT
UID:58178625-8624-4515-5451-000000010568
SUMMARY:Bioabfälle
DESCRIPTION;ENCODING=QUOTED-PRINTABLE:Bioabfälle ist eine Regelabfuhr, eine Anmeldung ist nicht erforderlich.
DTSTART:20261013
DTEND:20261014
END:VEVENT
BEGIN:VEVENT
UID:58178625-8624-4515-5451-000000010569
SUMMARY:Bioabfälle
DESCRIPTION;ENCODING=QUOTED-PRINTABLE:Bioabfälle ist eine Regelabfuhr, eine Anmeldung ist nicht erforderlich.
DTSTART:20261027
DTEND:20261028
END:VEVENT
BEGIN:VEVENT
UID:58178625-8624-4515-5451-000000010570
SUMMARY:Bioabfälle
DESCRIPTION;ENCODING=QUOTED-PRINTABLE:Bioabfälle ist eine Regelabfuhr, eine Anmeldung ist nicht erforderlich.
DTSTART:20261110
DTEND:20261111
END:VEVENT
BEGIN:VEVENT
UID:58178625-8624-4515-5451-000000010571
SUMMARY:Bioabfälle
DESCRIPTION;ENCODING=QUOTED-PRINTABLE:Bioabfälle ist eine Regelabfuhr, eine Anmeldung ist nicht erforderlich.
DTSTART:20261124
DTEND:20261125
END:VEVENT
BEGIN:VEVENT
UID:58178625-8624-4515-5451-000000010572
SUMMARY:Bioabfälle
DESCRIPTION;ENCODING=QUOTED-PRINTABLE:Bioabfälle ist eine Regelabfuhr, eine Anmeldung ist nicht erforderlich.
DTSTART:20261208
DTEND:20261209
END:VEVENT
BEGIN:VEVENT
UID:58178625-8624-4515-5451-000000010573
SUMMARY:Bioabfälle
DESCRIPTION;ENCODING=QUOTED-PRINTABLE:Bioabfälle ist eine Regelabfuhr, eine Anmeldung ist nicht erforderlich.
DTSTART:20261221
DTEND:20261222
END:VEVENT
BEGIN:VEVENT
UID:58178625-8624-4515-5451-000000010230
SUMMARY:Restabfälle
DESCRIPTION;ENCODING=QUOTED-PRINTABLE:Restabfälle ist eine Regelabfuhr, eine Anmeldung ist nicht erforderlich.
DTSTART:20260429
DTEND:20260430
END:VEVENT
BEGIN:VEVENT
UID:58178625-8624-4515-5451-000000010231
SUMMARY:Restabfälle
DESCRIPTION;ENCODING=QUOTED-PRINTABLE:Restabfälle ist eine Regelabfuhr, eine Anmeldung ist nicht erforderlich.
DTSTART:20260528
DTEND:20260529
END:VEVENT
BEGIN:VEVENT
UID:58178625-8624-4515-5451-000000010232
SUMMARY:Restabfälle
DESCRIPTION;ENCODING=QUOTED-PRINTABLE:Restabfälle ist eine Regelabfuhr, eine Anmeldung ist nicht erforderlich.
DTSTART:20260624
DTEND:20260625
END:VEVENT
BEGIN:VEVENT
UID:58178625-8624-4515-5451-000000010233
SUMMARY:Restabfälle
DESCRIPTION;ENCODING=QUOTED-PRINTABLE:Restabfälle ist eine Regelabfuhr, eine Anmeldung ist nicht erforderlich.
DTSTART:20260722
DTEND:20260723
END:VEVENT
BEGIN:VEVENT
UID:58178625-8624-4515-5451-000000010234
SUMMARY:Restabfälle
DESCRIPTION;ENCODING=QUOTED-PRINTABLE:Restabfälle ist eine Regelabfuhr, eine Anmeldung ist nicht erforderlich.
DTSTART:20260819
DTEND:20260820
END:VEVENT
BEGIN:VEVENT
UID:58178625-8624-4515-5451-000000010235
SUMMARY:Restabfälle
DESCRIPTION;ENCODING=QUOTED-PRINTABLE:Restabfälle ist eine Regelabfuhr, eine Anmeldung ist nicht erforderlich.
DTSTART:20260916
DTEND:20260917
END:VEVENT
BEGIN:VEVENT
UID:58178625-8624-4515-5451-000000010236
SUMMARY:Restabfälle
DESCRIPTION;ENCODING=QUOTED-PRINTABLE:Restabfälle ist eine Regelabfuhr, eine Anmeldung ist nicht erforderlich.
DTSTART:20261014
DTEND:20261015
END:VEVENT
BEGIN:VEVENT
UID:58178625-8624-4515-5451-000000010237
SUMMARY:Restabfälle
DESCRIPTION;ENCODING=QUOTED-PRINTABLE:Restabfälle ist eine Regelabfuhr, eine Anmeldung ist nicht erforderlich.
DTSTART:20261111
DTEND:20261112
END:VEVENT
BEGIN:VEVENT
UID:58178625-8624-4515-5451-000000010238
SUMMARY:Restabfälle
DESCRIPTION;ENCODING=QUOTED-PRINTABLE:Restabfälle ist eine Regelabfuhr, eine Anmeldung ist nicht erforderlich.
DTSTART:20261209
DTEND:20261210
END:VEVENT
BEGIN:VEVENT
UID:58178625-8624-4515-5451-000000010377
SUMMARY:DSD/gelber Sack/Tonne
DESCRIPTION;ENCODING=QUOTED-PRINTABLE:DSD/gelber Sack/Tonne ist eine Regelabfuhr, eine Anmeldung ist nicht erforderlich.
DTSTART:20260427
DTEND:20260428
END:VEVENT
BEGIN:VEVENT
UID:58178625-8624-4515-5451-000000010378
SUMMARY:DSD/gelber Sack/Tonne
DESCRIPTION;ENCODING=QUOTED-PRINTABLE:DSD/gelber Sack/Tonne ist eine Regelabfuhr, eine Anmeldung ist nicht erforderlich.
DTSTART:20260511
DTEND:20260512
END:VEVENT
BEGIN:VEVENT
UID:58178625-8624-4515-5451-000000010379
SUMMARY:DSD/gelber Sack/Tonne
DESCRIPTION;ENCODING=QUOTED-PRINTABLE:DSD/gelber Sack/Tonne ist eine Regelabfuhr, eine Anmeldung ist nicht erforderlich.
DTSTART:20260526
DTEND:20260527
END:VEVENT
BEGIN:VEVENT
UID:58178625-8624-4515-5451-000000010380
SUMMARY:DSD/gelber Sack/Tonne
DESCRIPTION;ENCODING=QUOTED-PRINTABLE:DSD/gelber Sack/Tonne ist eine Regelabfuhr, eine Anmeldung ist nicht erforderlich.
DTSTART:20260608
DTEND:20260609
END:VEVENT
BEGIN:VEVENT
UID:58178625-8624-4515-5451-000000010381
SUMMARY:DSD/gelber Sack/Tonne
DESCRIPTION;ENCODING=QUOTED-PRINTABLE:DSD/gelber Sack/Tonne ist eine Regelabfuhr, eine Anmeldung ist nicht erforderlich.
DTSTART:20260622
DTEND:20260623
END:VEVENT
BEGIN:VEVENT
UID:58178625-8624-4515-5451-000000010382
SUMMARY:DSD/gelber Sack/Tonne
DESCRIPTION;ENCODING=QUOTED-PRINTABLE:DSD/gelber Sack/Tonne ist eine Regelabfuhr, eine Anmeldung ist nicht erforderlich.
DTSTART:20260706
DTEND:20260707
END:VEVENT
BEGIN:VEVENT
UID:58178625-8624-4515-5451-000000010383
SUMMARY:DSD/gelber Sack/Tonne
DESCRIPTION;ENCODING=QUOTED-PRINTABLE:DSD/gelber Sack/Tonne ist eine Regelabfuhr, eine Anmeldung ist nicht erforderlich.
DTSTART:20260720
DTEND:20260721
END:VEVENT
BEGIN:VEVENT
UID:58178625-8624-4515-5451-000000010384
SUMMARY:DSD/gelber Sack/Tonne
DESCRIPTION;ENCODING=QUOTED-PRINTABLE:DSD/gelber Sack/Tonne ist eine Regelabfuhr, eine Anmeldung ist nicht erforderlich.
DTSTART:20260803
DTEND:20260804
END:VEVENT
BEGIN:VEVENT
UID:58178625-8624-4515-5451-000000010385
SUMMARY:DSD/gelber Sack/Tonne
DESCRIPTION;ENCODING=QUOTED-PRINTABLE:DSD/gelber Sack/Tonne ist eine Regelabfuhr, eine Anmeldung ist nicht erforderlich.
DTSTART:20260817
DTEND:20260818
END:VEVENT
BEGIN:VEVENT
UID:58178625-8624-4515-5451-000000010386
SUMMARY:DSD/gelber Sack/Tonne
DESCRIPTION;ENCODING=QUOTED-PRINTABLE:DSD/gelber Sack/Tonne ist eine Regelabfuhr, eine Anmeldung ist nicht erforderlich.
DTSTART:20260831
DTEND:20260901
END:VEVENT
BEGIN:VEVENT
UID:58178625-8624-4515-5451-000000010387
SUMMARY:DSD/gelber Sack/Tonne
DESCRIPTION;ENCODING=QUOTED-PRINTABLE:DSD/gelber Sack/Tonne ist eine Regelabfuhr, eine Anmeldung ist nicht erforderlich.
DTSTART:20260914
DTEND:20260915
END:VEVENT
BEGIN:VEVENT
UID:58178625-8624-4515-5451-000000010388
SUMMARY:DSD/gelber Sack/Tonne
DESCRIPTION;ENCODING=QUOTED-PRINTABLE:DSD/gelber Sack/Tonne ist eine Regelabfuhr, eine Anmeldung ist nicht erforderlich.
DTSTART:20260928
DTEND:20260929
END:VEVENT
BEGIN:VEVENT
UID:58178625-8624-4515-5451-000000010389
SUMMARY:DSD/gelber Sack/Tonne
DESCRIPTION;ENCODING=QUOTED-PRINTABLE:DSD/gelber Sack/Tonne ist eine Regelabfuhr, eine Anmeldung ist nicht erforderlich.
DTSTART:20261012
DTEND:20261013
END:VEVENT
BEGIN:VEVENT
UID:58178625-8624-4515-5451-000000010390
SUMMARY:DSD/gelber Sack/Tonne
DESCRIPTION;ENCODING=QUOTED-PRINTABLE:DSD/gelber Sack/Tonne ist eine Regelabfuhr, eine Anmeldung ist nicht erforderlich.
DTSTART:20261026
DTEND:20261027
END:VEVENT
BEGIN:VEVENT
UID:58178625-8624-4515-5451-000000010391
SUMMARY:DSD/gelber Sack/Tonne
DESCRIPTION;ENCODING=QUOTED-PRINTABLE:DSD/gelber Sack/Tonne ist eine Regelabfuhr, eine Anmeldung ist nicht erforderlich.
DTSTART:20261109
DTEND:20261110
END:VEVENT
BEGIN:VEVENT
UID:58178625-8624-4515-5451-000000010392
SUMMARY:DSD/gelber Sack/Tonne
DESCRIPTION;ENCODING=QUOTED-PRINTABLE:DSD/gelber Sack/Tonne ist eine Regelabfuhr, eine Anmeldung ist nicht erforderlich.
DTSTART:20261123
DTEND:20261124
END:VEVENT
BEGIN:VEVENT
UID:58178625-8624-4515-5451-000000010393
SUMMARY:DSD/gelber Sack/Tonne
DESCRIPTION;ENCODING=QUOTED-PRINTABLE:DSD/gelber Sack/Tonne ist eine Regelabfuhr, eine Anmeldung ist nicht erforderlich.
DTSTART:20261207
DTEND:20261208
END:VEVENT
BEGIN:VEVENT
UID:58178625-8624-4515-5451-000000010394
SUMMARY:DSD/gelber Sack/Tonne
DESCRIPTION;ENCODING=QUOTED-PRINTABLE:DSD/gelber Sack/Tonne ist eine Regelabfuhr, eine Anmeldung ist nicht erforderlich.
DTSTART:20261219
DTEND:20261220
END:VEVENT
BEGIN:VEVENT
UID:58178625-8624-4515-5451-000000010321
SUMMARY:Papier / Pappe
DESCRIPTION;ENCODING=QUOTED-PRINTABLE:Papier / Pappe ist eine Regelabfuhr, eine Anmeldung ist nicht erforderlich.
DTSTART:20260513
DTEND:20260514
END:VEVENT
BEGIN:VEVENT
UID:58178625-8624-4515-5451-000000010322
SUMMARY:Papier / Pappe
DESCRIPTION;ENCODING=QUOTED-PRINTABLE:Papier / Pappe ist eine Regelabfuhr, eine Anmeldung ist nicht erforderlich.
DTSTART:20260610
DTEND:20260611
END:VEVENT
BEGIN:VEVENT
UID:58178625-8624-4515-5451-000000010323
SUMMARY:Papier / Pappe
DESCRIPTION;ENCODING=QUOTED-PRINTABLE:Papier / Pappe ist eine Regelabfuhr, eine Anmeldung ist nicht erforderlich.
DTSTART:20260708
DTEND:20260709
END:VEVENT
BEGIN:VEVENT
UID:58178625-8624-4515-5451-000000010324
SUMMARY:Papier / Pappe
DESCRIPTION;ENCODING=QUOTED-PRINTABLE:Papier / Pappe ist eine Regelabfuhr, eine Anmeldung ist nicht erforderlich.
DTSTART:20260805
DTEND:20260806
END:VEVENT
BEGIN:VEVENT
UID:58178625-8624-4515-5451-000000010325
SUMMARY:Papier / Pappe
DESCRIPTION;ENCODING=QUOTED-PRINTABLE:Papier / Pappe ist eine Regelabfuhr, eine Anmeldung ist nicht erforderlich.
DTSTART:20260902
DTEND:20260903
END:VEVENT
BEGIN:VEVENT
UID:58178625-8624-4515-5451-000000010326
SUMMARY:Papier / Pappe
DESCRIPTION;ENCODING=QUOTED-PRINTABLE:Papier / Pappe ist eine Regelabfuhr, eine Anmeldung ist nicht erforderlich.
DTSTART:20260930
DTEND:20261001
END:VEVENT
BEGIN:VEVENT
UID:58178625-8624-4515-5451-000000010327
SUMMARY:Papier / Pappe
DESCRIPTION;ENCODING=QUOTED-PRINTABLE:Papier / Pappe ist eine Regelabfuhr, eine Anmeldung ist nicht erforderlich.
DTSTART:20261028
DTEND:20261029
END:VEVENT
BEGIN:VEVENT
UID:58178625-8624-4515-5451-000000010328
SUMMARY:Papier / Pappe
DESCRIPTION;ENCODING=QUOTED-PRINTABLE:Papier / Pappe ist eine Regelabfuhr, eine Anmeldung ist nicht erforderlich.
DTSTART:20261125
DTEND:20261126
END:VEVENT
BEGIN:VEVENT
UID:58178625-8624-4515-5451-000000010329
SUMMARY:Papier / Pappe
DESCRIPTION;ENCODING=QUOTED-PRINTABLE:Papier / Pappe ist eine Regelabfuhr, eine Anmeldung ist nicht erforderlich.
DTSTART:20261222
DTEND:20261223
END:VEVENT
BEGIN:VEVENT
UID:58178625-8624-4515-5451-000000010150
SUMMARY:Schadstoffe S1 (10-12 Uhr)
DESCRIPTION;ENCODING=QUOTED-PRINTABLE:Schadstoffe S1 (10-12 Uhr) ist eine Regelabfuhr, eine Anmeldung ist nicht erforderlich.
DTSTART:20260723
DTEND:20260724
END:VEVENT
BEGIN:VEVENT
UID:58178625-8624-4515-5451-000000010151
SUMMARY:Schadstoffe S1 (10-12 Uhr)
DESCRIPTION;ENCODING=QUOTED-PRINTABLE:Schadstoffe S1 (10-12 Uhr) ist eine Regelabfuhr, eine Anmeldung ist nicht erforderlich.
DTSTART:20261105
DTEND:20261106
END:VEVENT
BEGIN:VEVENT
UID:58178625-8624-4515-5451-000000010082
SUMMARY:Altholz
DESCRIPTION:Altholz ist ein anmeldepflichtiger Abfuhrtermin.\nDie Anmeldefrist für diesen Termin endet am 06.05.2026.\nAnmeldung zum Abfuhrtermin für die Straße "Grubenstraße" unter der URL: http://www.olpe.abfuhrtermine.info/orders/add/date_id:10082/sorting_id:66/street_id:340
DTSTART:20260512
DTEND:20260513
END:VEVENT
BEGIN:VEVENT
UID:58178625-8624-4515-5451-000000010083
SUMMARY:Altholz
DESCRIPTION:Altholz ist ein anmeldepflichtiger Abfuhrtermin.\nDie Anmeldefrist für diesen Termin endet am 02.07.2026.\nAnmeldung zum Abfuhrtermin für die Straße "Grubenstraße" unter der URL: http://www.olpe.abfuhrtermine.info/orders/add/date_id:10083/sorting_id:66/street_id:340
DTSTART:20260708
DTEND:20260709
END:VEVENT
BEGIN:VEVENT
UID:58178625-8624-4515-5451-000000010084
SUMMARY:Altholz
DESCRIPTION:Altholz ist ein anmeldepflichtiger Abfuhrtermin.\nDie Anmeldefrist für diesen Termin endet am 27.08.2026.\nAnmeldung zum Abfuhrtermin für die Straße "Grubenstraße" unter der URL: http://www.olpe.abfuhrtermine.info/orders/add/date_id:10084/sorting_id:66/street_id:340
DTSTART:20260902
DTEND:20260903
END:VEVENT
BEGIN:VEVENT
UID:58178625-8624-4515-5451-000000010085
SUMMARY:Altholz
DESCRIPTION:Altholz ist ein anmeldepflichtiger Abfuhrtermin.\nDie Anmeldefrist für diesen Termin endet am 05.11.2026.\nAnmeldung zum Abfuhrtermin für die Straße "Grubenstraße" unter der URL: http://www.olpe.abfuhrtermine.info/orders/add/date_id:10085/sorting_id:66/street_id:340
DTSTART:20261111
DTEND:20261112
END:VEVENT
BEGIN:VEVENT
UID:58178625-8624-4515-5451-000000010106
SUMMARY:Restsperrmüll
DESCRIPTION:Restsperrmüll ist ein anmeldepflichtiger Abfuhrtermin.\nDie Anmeldefrist für diesen Termin endet am 27.05.2026.\nAnmeldung zum Abfuhrtermin für die Straße "Grubenstraße" unter der URL: http://www.olpe.abfuhrtermine.info/orders/add/date_id:10106/sorting_id:67/street_id:340
DTSTART:20260602
DTEND:20260603
END:VEVENT
BEGIN:VEVENT
UID:58178625-8624-4515-5451-000000010107
SUMMARY:Restsperrmüll
DESCRIPTION:Restsperrmüll ist ein anmeldepflichtiger Abfuhrtermin.\nDie Anmeldefrist für diesen Termin endet am 23.07.2026.\nAnmeldung zum Abfuhrtermin für die Straße "Grubenstraße" unter der URL: http://www.olpe.abfuhrtermine.info/orders/add/date_id:10107/sorting_id:67/street_id:340
DTSTART:20260729
DTEND:20260730
END:VEVENT
BEGIN:VEVENT
UID:58178625-8624-4515-5451-000000010108
SUMMARY:Restsperrmüll
DESCRIPTION:Restsperrmüll ist ein anmeldepflichtiger Abfuhrtermin.\nDie Anmeldefrist für diesen Termin endet am 16.09.2026.\nAnmeldung zum Abfuhrtermin für die Straße "Grubenstraße" unter der URL: http://www.olpe.abfuhrtermine.info/orders/add/date_id:10108/sorting_id:67/street_id:340
DTSTART:20260922
DTEND:20260923
END:VEVENT
BEGIN:VEVENT
UID:58178625-8624-4515-5451-000000010109
SUMMARY:Restsperrmüll
DESCRIPTION:Restsperrmüll ist ein anmeldepflichtiger Abfuhrtermin.\nDie Anmeldefrist für diesen Termin endet am 18.11.2026.\nAnmeldung zum Abfuhrtermin für die Straße "Grubenstraße" unter der URL: http://www.olpe.abfuhrtermine.info/orders/add/date_id:10109/sorting_id:67/street_id:340
DTSTART:20261124
DTEND:20261125
END:VEVENT
BEGIN:VEVENT
UID:58178625-8624-4515-5451-000000010130
SUMMARY:Schrott/E-Schrott
DESCRIPTION:Schrott/E-Schrott ist ein anmeldepflichtiger Abfuhrtermin.\nDie Anmeldefrist für diesen Termin endet am 03.06.2026.\nAnmeldung zum Abfuhrtermin für die Straße "Grubenstraße" unter der URL: http://www.olpe.abfuhrtermine.info/orders/add/date_id:10130/sorting_id:68/street_id:340
DTSTART:20260609
DTEND:20260610
END:VEVENT
BEGIN:VEVENT
UID:58178625-8624-4515-5451-000000010131
SUMMARY:Schrott/E-Schrott
DESCRIPTION:Schrott/E-Schrott ist ein anmeldepflichtiger Abfuhrtermin.\nDie Anmeldefrist für diesen Termin endet am 05.08.2026.\nAnmeldung zum Abfuhrtermin für die Straße "Grubenstraße" unter der URL: http://www.olpe.abfuhrtermine.info/orders/add/date_id:10131/sorting_id:68/street_id:340
DTSTART:20260811
DTEND:20260812
END:VEVENT
BEGIN:VEVENT
UID:58178625-8624-4515-5451-000000010132
SUMMARY:Schrott/E-Schrott
DESCRIPTION:Schrott/E-Schrott ist ein anmeldepflichtiger Abfuhrtermin.\nDie Anmeldefrist für diesen Termin endet am 30.09.2026.\nAnmeldung zum Abfuhrtermin für die Straße "Grubenstraße" unter der URL: http://www.olpe.abfuhrtermine.info/orders/add/date_id:10132/sorting_id:68/street_id:340
DTSTART:20261006
DTEND:20261007
END:VEVENT
BEGIN:VEVENT
UID:58178625-8624-4515-5451-000000010133
SUMMARY:Schrott/E-Schrott
DESCRIPTION:Schrott/E-Schrott ist ein anmeldepflichtiger Abfuhrtermin.\nDie Anmeldefrist für diesen Termin endet am 02.12.2026.\nAnmeldung zum Abfuhrtermin für die Straße "Grubenstraße" unter der URL: http://www.olpe.abfuhrtermine.info/orders/add/date_id:10133/sorting_id:68/street_id:340
DTSTART:20261208
DTEND:20261209
END:VEVENT
END:VCALENDAR
